BEGIN:VCALENDAR
VERSION:2.0
PRODID:-//Lower Turtle Lake Wisconsin - ECPv6.15.20//NONSGML v1.0//EN
CALSCALE:GREGORIAN
METHOD:PUBLISH
X-WR-CALNAME:Lower Turtle Lake Wisconsin
X-ORIGINAL-URL:https://lowerturtlelake.com
X-WR-CALDESC:Events for Lower Turtle Lake Wisconsin
REFRESH-INTERVAL;VALUE=DURATION:PT1H
X-Robots-Tag:noindex
X-PUBLISHED-TTL:PT1H
BEGIN:VTIMEZONE
TZID:America/New_York
BEGIN:DAYLIGHT
TZOFFSETFROM:-0500
TZOFFSETTO:-0400
TZNAME:EDT
DTSTART:20170312T070000
END:DAYLIGHT
BEGIN:STANDARD
TZOFFSETFROM:-0400
TZOFFSETTO:-0500
TZNAME:EST
DTSTART:20171105T060000
END:STANDARD
BEGIN:DAYLIGHT
TZOFFSETFROM:-0500
TZOFFSETTO:-0400
TZNAME:EDT
DTSTART:20180311T070000
END:DAYLIGHT
BEGIN:STANDARD
TZOFFSETFROM:-0400
TZOFFSETTO:-0500
TZNAME:EST
DTSTART:20181104T060000
END:STANDARD
BEGIN:DAYLIGHT
TZOFFSETFROM:-0500
TZOFFSETTO:-0400
TZNAME:EDT
DTSTART:20190310T070000
END:DAYLIGHT
BEGIN:STANDARD
TZOFFSETFROM:-0400
TZOFFSETTO:-0500
TZNAME:EST
DTSTART:20191103T060000
END:STANDARD
END:VTIMEZONE
BEGIN:VEVENT
DTSTART;TZID=America/New_York:20180818T160000
DTEND;TZID=America/New_York:20180818T160000
DTSTAMP:20260423T150115
CREATED:20250916T154456Z
LAST-MODIFIED:20250916T154456Z
UID:10000122-1534608000-1534608000@lowerturtlelake.com
SUMMARY:Lower Turtle Lake Association Annual Picnic\, Games and Auction
DESCRIPTION:Annual Picnic (New Location)\nWhen: Saturday\, August 18th at 4:00 p.m.\nWhere: Rick and Linda Murray’s – 351 12 3/4 Ave.\, Almena\, WI\n(From Hwy 8 turn south on 4th St.  Then turn right on 12 3/4 Ave and go to the end of road to red pole barn on right side) \nBring a dish to share and lawn chairs. Chicken\, plates\, napkins\, flatware\, and pop will be provided. The picnic meal will be served at 4:00 p.m.  Both a silent auction and a bucket auction will be held during the picnic.  Everyone is encouraged to donate first by bringing something to the picnic that you’ve either crafted\, won as a prize\, received as a gift\, is a coupon for a service you’ll render\, or is something you’ve purchased and donating it and then donating again by bidding for one or more of many great items on the auctions. (Note: When bringing in your donated items\, please let a board member know which of the two fund raising opportunities you’d like your item to be included in.) \nBring something great. Go home with something great!!!\n(Cash and checks accepted.)
URL:https://lowerturtlelake.com/event/lower-turtle-lake-association-annual-picnic-games-and-auction-6/
LOCATION:Linda Murray’s Red Pole Barn Shed\, Almena\, WI
END:VEVENT
END:VCALENDAR