BEGIN:VCALENDAR
VERSION:2.0
PRODID:-//Lower Turtle Lake Wisconsin - ECPv6.15.20//NONSGML v1.0//EN
CALSCALE:GREGORIAN
METHOD:PUBLISH
X-ORIGINAL-URL:https://lowerturtlelake.com
X-WR-CALDESC:Events for Lower Turtle Lake Wisconsin
REFRESH-INTERVAL;VALUE=DURATION:PT1H
X-Robots-Tag:noindex
X-PUBLISHED-TTL:PT1H
BEGIN:VTIMEZONE
TZID:America/New_York
BEGIN:DAYLIGHT
TZOFFSETFROM:-0500
TZOFFSETTO:-0400
TZNAME:EDT
DTSTART:20140309T070000
END:DAYLIGHT
BEGIN:STANDARD
TZOFFSETFROM:-0400
TZOFFSETTO:-0500
TZNAME:EST
DTSTART:20141102T060000
END:STANDARD
BEGIN:DAYLIGHT
TZOFFSETFROM:-0500
TZOFFSETTO:-0400
TZNAME:EDT
DTSTART:20150308T070000
END:DAYLIGHT
BEGIN:STANDARD
TZOFFSETFROM:-0400
TZOFFSETTO:-0500
TZNAME:EST
DTSTART:20151101T060000
END:STANDARD
BEGIN:DAYLIGHT
TZOFFSETFROM:-0500
TZOFFSETTO:-0400
TZNAME:EDT
DTSTART:20160313T070000
END:DAYLIGHT
BEGIN:STANDARD
TZOFFSETFROM:-0400
TZOFFSETTO:-0500
TZNAME:EST
DTSTART:20161106T060000
END:STANDARD
END:VTIMEZONE
BEGIN:VEVENT
DTSTART;TZID=America/New_York:20150727T133000
DTEND;TZID=America/New_York:20150727T133000
DTSTAMP:20260423T150144
CREATED:20250916T173947Z
LAST-MODIFIED:20250916T173947Z
UID:10000185-1438003800-1438003800@lowerturtlelake.com
SUMMARY:Lower Turtle Lake Association Annual Ice Cream Social
DESCRIPTION:
URL:https://lowerturtlelake.com/event/lower-turtle-lake-association-annual-ice-cream-social-2/
LOCATION:Bob and Denise Peltier\, Almena\, WI
END:VEVENT
END:VCALENDAR