BEGIN:VCALENDAR
VERSION:2.0
PRODID:-//Lower Turtle Lake Wisconsin - ECPv6.15.20//NONSGML v1.0//EN
CALSCALE:GREGORIAN
METHOD:PUBLISH
X-WR-CALNAME:Lower Turtle Lake Wisconsin
X-ORIGINAL-URL:https://lowerturtlelake.com
X-WR-CALDESC:Events for Lower Turtle Lake Wisconsin
REFRESH-INTERVAL;VALUE=DURATION:PT1H
X-Robots-Tag:noindex
X-PUBLISHED-TTL:PT1H
BEGIN:VTIMEZONE
TZID:America/New_York
BEGIN:DAYLIGHT
TZOFFSETFROM:-0500
TZOFFSETTO:-0400
TZNAME:EDT
DTSTART:20240310T070000
END:DAYLIGHT
BEGIN:STANDARD
TZOFFSETFROM:-0400
TZOFFSETTO:-0500
TZNAME:EST
DTSTART:20241103T060000
END:STANDARD
BEGIN:DAYLIGHT
TZOFFSETFROM:-0500
TZOFFSETTO:-0400
TZNAME:EDT
DTSTART:20250309T070000
END:DAYLIGHT
BEGIN:STANDARD
TZOFFSETFROM:-0400
TZOFFSETTO:-0500
TZNAME:EST
DTSTART:20251102T060000
END:STANDARD
BEGIN:DAYLIGHT
TZOFFSETFROM:-0500
TZOFFSETTO:-0400
TZNAME:EDT
DTSTART:20260308T070000
END:DAYLIGHT
BEGIN:STANDARD
TZOFFSETFROM:-0400
TZOFFSETTO:-0500
TZNAME:EST
DTSTART:20261101T060000
END:STANDARD
END:VTIMEZONE
BEGIN:VEVENT
DTSTART;TZID=America/New_York:20251216T133000
DTEND;TZID=America/New_York:20251216T160000
DTSTAMP:20260423T173056
CREATED:20251020T132303Z
LAST-MODIFIED:20251205T081459Z
UID:10000190-1765891800-1765900800@lowerturtlelake.com
SUMMARY:Almena Village Senior Social
DESCRIPTION:Coffee\, games\, and conversation at the Village Hall in Almena.  First and third Tuesday’s at 1:30pm.
URL:https://lowerturtlelake.com/event/test-event-entered-10-20-2025-this-is-teh-subject-box/
LOCATION:Almena Village Hall\, 131 Soo Ave E\, Almena\, WI\, 54805\, United States
END:VEVENT
END:VCALENDAR