BEGIN:VCALENDAR
VERSION:2.0
PRODID:-//Lower Turtle Lake Wisconsin - ECPv6.15.20//NONSGML v1.0//EN
CALSCALE:GREGORIAN
METHOD:PUBLISH
X-ORIGINAL-URL:https://lowerturtlelake.com
X-WR-CALDESC:Events for Lower Turtle Lake Wisconsin
REFRESH-INTERVAL;VALUE=DURATION:PT1H
X-Robots-Tag:noindex
X-PUBLISHED-TTL:PT1H
BEGIN:VTIMEZONE
TZID:America/New_York
BEGIN:DAYLIGHT
TZOFFSETFROM:-0500
TZOFFSETTO:-0400
TZNAME:EDT
DTSTART:20240310T070000
END:DAYLIGHT
BEGIN:STANDARD
TZOFFSETFROM:-0400
TZOFFSETTO:-0500
TZNAME:EST
DTSTART:20241103T060000
END:STANDARD
BEGIN:DAYLIGHT
TZOFFSETFROM:-0500
TZOFFSETTO:-0400
TZNAME:EDT
DTSTART:20250309T070000
END:DAYLIGHT
BEGIN:STANDARD
TZOFFSETFROM:-0400
TZOFFSETTO:-0500
TZNAME:EST
DTSTART:20251102T060000
END:STANDARD
BEGIN:DAYLIGHT
TZOFFSETFROM:-0500
TZOFFSETTO:-0400
TZNAME:EDT
DTSTART:20260308T070000
END:DAYLIGHT
BEGIN:STANDARD
TZOFFSETFROM:-0400
TZOFFSETTO:-0500
TZNAME:EST
DTSTART:20261101T060000
END:STANDARD
END:VTIMEZONE
BEGIN:VEVENT
DTSTART;TZID=America/New_York:20251004T080000
DTEND;TZID=America/New_York:20251004T170000
DTSTAMP:20260423T204558
CREATED:20250908T022018Z
LAST-MODIFIED:20250915T150735Z
UID:10000001-1759564800-1759597200@lowerturtlelake.com
SUMMARY:Lower Turtle Lake Management District Regular Meeting
DESCRIPTION:This is the fourth four planned meetings of the Lower Turtle Lake Management District for 2025.  Meetings are held in the Almena Town (Township) Hall located at 211 Soo Ave.\, W.\, Almena\, WI 54805 and begin at 8:00 am.  The elected members of the board will discuss current topics related specifically to the lake itself as well as surrounding areas and properties.  This is a public meeting and all lake owners as well as other interested parties are encouraged to attend.
URL:https://lowerturtlelake.com/event/omnis-deleniti-ut-officiis-non/
LOCATION:Almena Town Hall\, Almena\, WI\, 215 Soo Ave W\, Almena\, WI\, 54805\, United States
ATTACH;FMTTYPE=image/webp:https://lowerturtlelake.com/wp-content/uploads/2025/09/09.webp
END:VEVENT
BEGIN:VEVENT
DTSTART;TZID=America/New_York:20251012T080000
DTEND;TZID=America/New_York:20251012T233000
DTSTAMP:20260423T204558
CREATED:20250916T101318Z
LAST-MODIFIED:20250916T101318Z
UID:10000018-1760256000-1760311800@lowerturtlelake.com
SUMMARY:Lower Turtle Lake Management District Regular Meeting
DESCRIPTION:This is the fourth of four planned meetings of the Lower Turtle Lake Management District for 2024.  Meetings are held in the Almena Town (Township) Hall located at 211 Soo Ave.\, W.\, Almena\, WI 54805 and begin at 8:00 am.  The elected members of the board will discuss current topics related specifically to the lake itself as well as surrounding areas and properties.  This is a public meeting and all lake owners as well as other interested parties are encouraged to attend. \n\n\n\nEvent Properties\n\n\n\nEvent Date\n10-12-2024 8:00 am\n\n\nIndividual Price\nFree\n\n\nLocation\nAlmena Town Hall\, Almena\, WI
URL:https://lowerturtlelake.com/event/lower-turtle-lake-management-district-regular-meeting-3/
LOCATION:Almena Town Hall\, Almena\, WI\, 215 Soo Ave W\, Almena\, WI\, 54805\, United States
END:VEVENT
BEGIN:VEVENT
DTSTART;TZID=America/New_York:20251012T080000
DTEND;TZID=America/New_York:20251012T233000
DTSTAMP:20260423T204558
CREATED:20250916T151529Z
LAST-MODIFIED:20250916T151529Z
UID:10000104-1760256000-1760311800@lowerturtlelake.com
SUMMARY:Lower Turtle Lake Management District Regular Meeting
DESCRIPTION:This is the fourth of four planned meetings of the Lower Turtle Lake Management District for 2019.  Meetings are held in the Almena (Township) Town Hall located at 211 Soo Ave. W.\, in Almena\, WI  54805 and begin at 8:00 am.  The elected members of the board will discuss current topics related specifically to the lake itself as well as surrounding areas and properties.  This is a public meeting and all lake owners as well as other interested parties are encouraged to attend. \n\n\n\nEvent Properties\n\n\n\nEvent Date\n10-12-2019 8:00 am\n\n\nIndividual Price\nFree\n\n\nLocation\nAlmena Town Hall\, Almena\, WI
URL:https://lowerturtlelake.com/event/lower-turtle-lake-management-district-regular-meeting-19/
LOCATION:Almena Town Hall\, Almena\, WI\, 215 Soo Ave W\, Almena\, WI\, 54805\, United States
END:VEVENT
BEGIN:VEVENT
DTSTART;TZID=America/New_York:20251021T080000
DTEND;TZID=America/New_York:20251021T233000
DTSTAMP:20260423T204558
CREATED:20250916T142455Z
LAST-MODIFIED:20250916T142455Z
UID:10000069-1761033600-1761089400@lowerturtlelake.com
SUMMARY:Lower Turtle Lake Management District Regular Meeting
DESCRIPTION:This is the fourth of four planned meetings of the Lower Turtle Lake Management District for 2021.  Meetings are held in the Almena (Township) Town Hall located at 211 Soo Ave. W.\, in Almena\, WI  54805 and begin at 8:00 am.  The elected members of the board will discuss current topics related specifically to the lake itself as well as surrounding areas and properties.  This is a public meeting and all lake owners as well as other interested parties are encouraged to attend. \n\n\n\nEvent Properties\n\n\n\nEvent Date\n10-09-2021 8:00 am\n\n\nIndividual Price\nFree\n\n\nLocation\nAlmena Town Hall\, Almena\, WI
URL:https://lowerturtlelake.com/event/lower-turtle-lake-management-district-regular-meeting-14/
LOCATION:Almena Town Hall\, Almena\, WI\, 215 Soo Ave W\, Almena\, WI\, 54805\, United States
END:VEVENT
END:VCALENDAR