BEGIN:VCALENDAR
VERSION:2.0
PRODID:-//Lower Turtle Lake Wisconsin - ECPv6.15.20//NONSGML v1.0//EN
CALSCALE:GREGORIAN
METHOD:PUBLISH
X-ORIGINAL-URL:https://lowerturtlelake.com
X-WR-CALDESC:Events for Lower Turtle Lake Wisconsin
REFRESH-INTERVAL;VALUE=DURATION:PT1H
X-Robots-Tag:noindex
X-PUBLISHED-TTL:PT1H
BEGIN:VTIMEZONE
TZID:America/New_York
BEGIN:DAYLIGHT
TZOFFSETFROM:-0500
TZOFFSETTO:-0400
TZNAME:EDT
DTSTART:20250309T070000
END:DAYLIGHT
BEGIN:STANDARD
TZOFFSETFROM:-0400
TZOFFSETTO:-0500
TZNAME:EST
DTSTART:20251102T060000
END:STANDARD
BEGIN:DAYLIGHT
TZOFFSETFROM:-0500
TZOFFSETTO:-0400
TZNAME:EDT
DTSTART:20260308T070000
END:DAYLIGHT
BEGIN:STANDARD
TZOFFSETFROM:-0400
TZOFFSETTO:-0500
TZNAME:EST
DTSTART:20261101T060000
END:STANDARD
BEGIN:DAYLIGHT
TZOFFSETFROM:-0500
TZOFFSETTO:-0400
TZNAME:EDT
DTSTART:20270314T070000
END:DAYLIGHT
BEGIN:STANDARD
TZOFFSETFROM:-0400
TZOFFSETTO:-0500
TZNAME:EST
DTSTART:20271107T060000
END:STANDARD
END:VTIMEZONE
BEGIN:VEVENT
DTSTART;TZID=America/New_York:20260530T100000
DTEND;TZID=America/New_York:20260530T120000
DTSTAMP:20260423T140751
CREATED:20260327T195752Z
LAST-MODIFIED:20260327T202817Z
UID:10000193-1780135200-1780142400@lowerturtlelake.com
SUMMARY:Lower Turtle Lake Annual Meeting
DESCRIPTION:This annual meeting will focus on summer 2026 social events on Lower Turtle Lake. Annual social fee for participation is $20. \nAll paid members will receive 1 free drink at meeting (limit 2 per household) There will be drawings from membership forms for gift certificates! \nGreat opportunity to connect with people on the lake! \n\n\n\nEvent Properties\n\n\n\nEvent Date\n05-30-2026 10:00 am\n\n\nIndividual Price\nFree\n\n\nLocation\nTwin Town Tavern
URL:https://lowerturtlelake.com/event/lower-turtle-lake-annual-meeting/
LOCATION:Twin Town Tavern\, 597 10 1/2 Ave\, Almena\, WI\, 54805\, United States
END:VEVENT
END:VCALENDAR